Workbook

Sheet Instrucciones
A7: Instructivo
A9: Esta autoevaluación aplica para micro empresas que cuenten de 1 a 10 empleados y pequeñas empresas que cuenten con 11 a 50 empleados
A10: 1.- En la hoja de Autoevaluación se deberá seleccionar si cuenta de manera total, parcial o no cuenta con controles de riesgo del punto de comprobación requerido.
A12: 2.- Después deberá seleccionar el nivel de contacto de los trabajadores dependiendo del área y del punto de comprobación.
A14: 3.- Una vez seleccionados ambos, se le indicará el nivel de riesgo que representa su situación actual. Estos niveles van de bajo, medio, alto a muy alto.
A16: 4.- Únicamente cuando se tenga la opción de "No aplica" el nivel de riesgo deberá indicar N/A, de lo contrario, asegurarse de haber contestado correctamente.
A18: 5.- Como apoyo se agregó la "sección/pestaña de Resultados" en la cual se le mostrarán dos gráficas que le darán un resumen de lo obtenido.

Sheet Autoevaluación
B4: Autoevaluación Micro y Pequeña Empresa
B5: # | C5: Punto de comprobación | D5: Controles de Riesgo | F5: Nivel de | G5: Riesgo de contagio
F6: contacto entre trabajadores | K6: Controles de riesgo | M6: Nivel de Contacto | O6: Riesgo
B7: En áreas de entrada y salida al centro de trabajo
B8: 1 | C8: El centro de trabajo cuenta con entradas y salidas exclusivas del personal, en caso de que se cuente con un solo acceso este se divide por barreras físicas a fin de contar con espacios específicos para el ingreso y salida del personal. | E8: Sí | F8: Continua | G8: =IF(OR(K8=0,K8=4),"N/A",IF(O8<=5,"Bajo",IF(AND(O8>5,O8<=10),"Medio",IF(AND(O8>10,O8<=15),"Alto","Muy Alto")))) -> Muy Alto | K8: 3 | L8: =IF(K8=1,0,IF(K8=2,5,10)) -> 10 | M8: 1 | N8: =IF(M8=1,4,IF(M8=2,3,IF(M8=3,2,1))) -> 4 | O8: =L8*N8 -> 40
F9: Frecuente
E10: Parcial | F10: Ocasional
E11: No | F11: Esporádica
B12: 2 | C12: Cuenta en los accesos al centro de trabajo con jergas saturadas con hipoclorito de sodio al 0.5% para la limpieza de las suelas de los zapatos. | E12: Sí | F12: Continua | G12: =IF(OR(K13=0,K13=4),"N/A",IF(O13<=5,"Bajo",IF(AND(O13>5,O13<=10),"Medio",IF(AND(O13>10,O13<=15),"Alto","Muy Alto")))) -> Medio
E13: Parcial | F13: Frecuente | K13: 3 | L13: =IF(K13=1,0,IF(K13=2,5,10)) -> 10 | M13: 4 | N13: =IF(M13=1,4,IF(M13=2,3,IF(M13=3,2,1))) -> 1 | O13: =L13*N13 -> 10
E14: No | F14: Ocasional
F15: Esporádica
B16: 3 | C16: Se cuenta en los accesos con dispensadores de alcohol al 70% o gel desinfectante base alcohol al 70% | E16: Sí | F16: Continua | G16: =IF(OR(K17=0,K17=4),"N/A",IF(O17<=5,"Bajo",IF(AND(O17>5,O17<=10),"Medio",IF(AND(O17>10,O17<=15),"Alto","Muy Alto")))) -> Medio
E17: Parcial | F17: Frecuente | K17: 3 | L17: =IF(K17=1,0,IF(K17=2,5,10)) -> 10 | M17: 4 | N17: =IF(M17=1,4,IF(M17=2,3,IF(M17=3,2,1))) -> 1 | O17: =L17*N17 -> 10
E18: No | F18: Ocasional
F19: Esporádica
B20: Áreas comunes
B21: 4 | C21: Se cuenta con lavamanos con jabón, agua y toallas de papel desechable, o en su caso, con dispensadores de alcohol al 70% o gel desinfectante base alcohol al 70%. | E21: Sí | F21: Continua | G21: =IF(OR(K22=0,K22=4),"N/A",IF(O22<=5,"Bajo",IF(AND(O22>5,O22<=10),"Medio",IF(AND(O22>10,O22<=15),"Alto","Muy Alto")))) -> Alto
E22: Parcial | F22: Frecuente | K22: 2 | L22: =IF(K22=1,0,IF(K22=2,5,10)) -> 5 | M22: 2 | N22: =IF(M22=1,4,IF(M22=2,3,IF(M22=3,2,1))) -> 3 | O22: =L22*N22 -> 15
E23: No | F23: Ocasional
F24: Esporádica
B25: 5 | C25: Se favorece la ventilación natural en los lugares que sea posible. | E25: Sí | F25: Con | G25: =IF(OR(K26=0,K26=4),"N/A",IF(O26<=5,"Bajo",IF(AND(O26>5,O26<=10),"Medio",IF(AND(O26>10,O26<=15),"Alto","Muy Alto")))) -> Bajo
E26: Parcial | F26: Frecuente | K26: 1 | L26: =IF(K26=1,0,IF(K26=2,5,10)) -> 0 | M26: 0 | N26: =IF(M26=1,4,IF(M26=2,3,IF(M26=3,2,1))) -> 1 | O26: =L26*N26 -> 0
E27: No | F27: Ocasional
F28: Esporádica
B29: Área de oficinas o administrativas (si el centro de trabajo no cuenta con éstas, podrá omitir ésta sección)
B30: 6 | C30: En los espacios donde se encuentran concentrados dos o más trabajadores, las áreas de trabajo se encuentran delimitadas por barreas físicas protegiendo el frente y laterales de los trabajadores. | E30: Sí | F30: Continua | G30: =IF(OR(K31=0,K31=4),"N/A",IF(O31<=5,"Bajo",IF(AND(O31>5,O31<=10),"Medio",IF(AND(O31>10,O31<=15),"Alto","Muy Alto")))) -> N/A
E31: Parcial | F31: Frecuente | K31: 4 | L31: =IF(K31=1,0,IF(K31=2,5,10)) -> 10 | M31: 4 | N31: =IF(M31=1,4,IF(M31=2,3,IF(M31=3,2,1))) -> 1 | O31: =L31*N31 -> 10
E32: No | F32: Ocasional
E33: No aplica | F33: Esporádica
B34: 7 | C34: Cuenta con señalizaciones o marcas en el piso indicando los lugares de trabajo, respetando siempre la distancia mínima entre cada puesto de trabajo, de al menos 1.5 metros. | E34: Si | F34: Continua | G34: =IF(OR(K35=0,K35=4),"N/A",IF(O35<=5,"Bajo",IF(AND(O35>5,O35<=10),"Medio",IF(AND(O35>10,O35<=15),"Alto","Muy Alto")))) -> N/A
E35: Parcial | F35: Frecuente | K35: 4 | L35: =IF(K35=1,0,IF(K35=2,5,10)) -> 10 | M35: 4 | N35: =IF(M35=1,4,IF(M35=2,3,IF(M35=3,2,1))) -> 1 | O35: =L35*N35 -> 10
E36: No | F36: Ocasional
E37: No aplica | F37: Esporádica
B38: 8 | C38: Los trabajadores cuentan con dispensadores de alcohol al 70% o gel desinfectante base alcohol al 70% | E38: Si | F38: Continua | G38: =IF(OR(K39=0,K39=4),"N/A",IF(O39<=5,"Bajo",IF(AND(O39>5,O39<=10),"Medio",IF(AND(O39>10,O39<=15),"Alto","Muy Alto")))) -> N/A
E39: Parcial | F39: Frecuente | K39: 4 | L39: =IF(K39=1,0,IF(K39=2,5,10)) -> 10 | M39: 3 | N39: =IF(M39=1,4,IF(M39=2,3,IF(M39=3,2,1))) -> 2 | O39: =L39*N39 -> 20
E40: No | F40: Ocasional
E41: No aplica | F41: Esporádica
B42: 9 | C42: Se favorece la ventilación natural en los lugares que es posible. | E42: Si | F42: Continua | G42: =IF(OR(K43=0,K43=4),"N/A",IF(O43<=5,"Bajo",IF(AND(O43>5,O43<=10),"Medio",IF(AND(O43>10,O43<=15),"Alto","Muy Alto")))) -> Bajo
E43: Parcial | F43: Frecuente | K43: 1 | L43: =IF(K43=1,0,IF(K43=2,5,10)) -> 0 | M43: 8 | N43: =IF(M43=1,4,IF(M43=2,3,IF(M43=3,2,1))) -> 1 | O43: =L43*N43 -> 0
...

Sheet Resultados
B2: Riesgo | C2: Total | D2: %
B3: Bajo | C3: =SUM(COUNTIF(Autoevaluación!$G$8:$H$19,B3),COUNTIF(Autoevaluación!$G$21:$H$28,B3),COUNTIF(Autoevaluación!$G$30:$H$45,B3),COUNTIF(Autoevaluación!$G$47:$H$58,B3),COUNTIF(Autoevaluación!$G$60:$H$71,B3),COUNTIF(Autoevaluación!$G$73:$H$80,B3),COUNTIF(Autoevaluación!$G$82:$H$193,B3)) -> 25 | D3: =C3/$C$8 -> 0.55555556 | F3: 0.42
B4: Medio | C4: =SUM(COUNTIF(Autoevaluación!$G$8:$H$19,B4),COUNTIF(Autoevaluación!$G$21:$H$28,B4),COUNTIF(Autoevaluación!$G$30:$H$45,B4),COUNTIF(Autoevaluación!$G$47:$H$58,B4),COUNTIF(Autoevaluación!$G$60:$H$71,B4),COUNTIF(Autoevaluación!$G$73:$H$80,B4),COUNTIF(Autoevaluación!$G$82:$H$193,B4)) -> 8 | D4: =C4/$C$8 -> 0.17777778 | AC4: ¡Excelente! Tu establecimiento ha reducido al mínimo el riesgo de contagio. ¡Sigue así! Juntos saldremos de esto.
B5: Alto | C5: =SUM(COUNTIF(Autoevaluación!$G$8:$H$19,B5),COUNTIF(Autoevaluación!$G$21:$H$28,B5),COUNTIF(Autoevaluación!$G$30:$H$45,B5),COUNTIF(Autoevaluación!$G$47:$H$58,B5),COUNTIF(Autoevaluación!$G$60:$H$71,B5),COUNTIF(Autoevaluación!$G$73:$H$80,B5),COUNTIF(Autoevaluación!$G$82:$H$193,B5)) -> 1 | D5: =C5/$C$8 -> 0.022222222 | F5: =SUM(D4:D7) -> 0.44444444
B6: Muy Alto | C6: =SUM(COUNTIF(Autoevaluación!$G$8:$H$19,B6),COUNTIF(Autoevaluación!$G$21:$H$28,B6),COUNTIF(Autoevaluación!$G$30:$H$45,B6),COUNTIF(Autoevaluación!$G$47:$H$58,B6),COUNTIF(Autoevaluación!$G$60:$H$71,B6),COUNTIF(Autoevaluación!$G$73:$H$80,B6),COUNTIF(Autoevaluación!$G$82:$H$193,B6)) -> 8 | D6: =C6/$C$8 -> 0.17777778
B7: N/A | C7: =SUM(COUNTIF(Autoevaluación!$G$8:$H$19,B7),COUNTIF(Autoevaluación!$G$21:$H$28,B7),COUNTIF(Autoevaluación!$G$30:$H$45,B7),COUNTIF(Autoevaluación!$G$47:$H$58,B7),COUNTIF(Autoevaluación!$G$60:$H$71,B7),COUNTIF(Autoevaluación!$G$73:$H$80,B7),COUNTIF(Autoevaluación!$G$82:$H$193,B7)) -> 3 | D7: =C7/$C$8 -> 0.066666667
B8: ∑ | C8: =SUM(C3:C7) -> 45
AC9: ¡Ya casi! Últimos detalles para lograr reducir al mínimo el riesgo de contagio. !Si se puede! Juntos saldremos de esto.
AC14: !Aún falta mucho! Pero no te desanimes, da prioridad aquellos niveles de riesgo alto y muy alto para reducir al mínimo el riesgo de contagio. Juntos saldremos de esto.
A21: En esta gráfica podemos observar los puntos obtenidos por nivel de riesgo: | O21: En ésta gráfica se busca que el nivel de riesgo bajo ocupe el 100% del anillo. En dado caso que no sea así, se deberán de tomar medidas para lograr que el establecimiento tenga el menor riesgo de contagio posible.
F23: Nivel de riesgo | G23: Total
F24: Bajo | G24: =C3 -> 25
F25: Medio | G25: =C4 -> 8 | I25: Total | J25: =IF(G24=0,1,IF(G28>0,G24/(SUM(G24:G27)),G24/SUM(G24:G28))) -> 0.5952381 | Q25: % De riesgo bajo | U25: =J25 -> 0.5952381
F26: Alto | G26: =C5 -> 1 | J26: =1-J25 -> 0.4047619
F27: Muy Alto | G27: =C6 -> 8
F28: N/A | G28: =C7 -> 3
